BEGIN:VCALENDAR
VERSION:2.0
PRODID:-//OGGS Glashütte - ECPv6.15.20//NONSGML v1.0//EN
CALSCALE:GREGORIAN
METHOD:PUBLISH
X-ORIGINAL-URL:https://gsglashuette.de
X-WR-CALDESC:Veranstaltungen für OGGS Glashütte
REFRESH-INTERVAL;VALUE=DURATION:PT1H
X-Robots-Tag:noindex
X-PUBLISHED-TTL:PT1H
BEGIN:VTIMEZONE
TZID:Europe/Berlin
BEGIN:DAYLIGHT
TZOFFSETFROM:+0100
TZOFFSETTO:+0200
TZNAME:CEST
DTSTART:20250330T010000
END:DAYLIGHT
BEGIN:STANDARD
TZOFFSETFROM:+0200
TZOFFSETTO:+0100
TZNAME:CET
DTSTART:20251026T010000
END:STANDARD
BEGIN:DAYLIGHT
TZOFFSETFROM:+0100
TZOFFSETTO:+0200
TZNAME:CEST
DTSTART:20260329T010000
END:DAYLIGHT
BEGIN:STANDARD
TZOFFSETFROM:+0200
TZOFFSETTO:+0100
TZNAME:CET
DTSTART:20261025T010000
END:STANDARD
BEGIN:DAYLIGHT
TZOFFSETFROM:+0100
TZOFFSETTO:+0200
TZNAME:CEST
DTSTART:20270328T010000
END:DAYLIGHT
BEGIN:STANDARD
TZOFFSETFROM:+0200
TZOFFSETTO:+0100
TZNAME:CET
DTSTART:20271031T010000
END:STANDARD
END:VTIMEZONE
BEGIN:VEVENT
DTSTART;TZID=Europe/Berlin:20260421T080000
DTEND;TZID=Europe/Berlin:20260423T120000
DTSTAMP:20260423T133319
CREATED:20260416T133448Z
LAST-MODIFIED:20260416T133448Z
UID:2308-1776758400-1776945600@gsglashuette.de
SUMMARY:Schnuppertage
DESCRIPTION:Schnuppertage für die zukünftigen ErstklässlerInnen. Sie wurden eingeladen. Bei Fragen bitte im Sekretariat melden.
URL:https://gsglashuette.de/event/schnuppertage/
LOCATION:OGGS Glashütte\, Müllerstr. 32\, Norderstedt\, Schleswig-Holstein\, 22851\, Deutschland
END:VEVENT
BEGIN:VEVENT
DTSTART;TZID=Europe/Berlin:20260428T080000
DTEND;TZID=Europe/Berlin:20260428T130000
DTSTAMP:20260423T133319
CREATED:20260414T123502Z
LAST-MODIFIED:20260414T123502Z
UID:2297-1777363200-1777381200@gsglashuette.de
SUMMARY:ADAC Fahrradtraining
DESCRIPTION:4. Klassen
URL:https://gsglashuette.de/event/adac-fahrradtraining/
LOCATION:OGGS Glashütte\, Müllerstr. 32\, Norderstedt\, Schleswig-Holstein\, 22851\, Deutschland
END:VEVENT
BEGIN:VEVENT
DTSTART;TZID=Europe/Berlin:20260429T080000
DTEND;TZID=Europe/Berlin:20260430T130000
DTSTAMP:20260423T133319
CREATED:20260414T123717Z
LAST-MODIFIED:20260414T123801Z
UID:2299-1777449600-1777554000@gsglashuette.de
SUMMARY:Fahrradprüfung
DESCRIPTION:4. Klassen
URL:https://gsglashuette.de/event/fahrradpruefung/
LOCATION:OGGS Glashütte\, Müllerstr. 32\, Norderstedt\, Schleswig-Holstein\, 22851\, Deutschland
END:VEVENT
END:VCALENDAR