BEGIN:VCALENDAR
VERSION:2.0
PRODID:-//OGGS Glashütte - ECPv6.15.20//NONSGML v1.0//EN
CALSCALE:GREGORIAN
METHOD:PUBLISH
X-ORIGINAL-URL:https://gsglashuette.de
X-WR-CALDESC:Veranstaltungen für OGGS Glashütte
REFRESH-INTERVAL;VALUE=DURATION:PT1H
X-Robots-Tag:noindex
X-PUBLISHED-TTL:PT1H
BEGIN:VTIMEZONE
TZID:Europe/Berlin
BEGIN:DAYLIGHT
TZOFFSETFROM:+0100
TZOFFSETTO:+0200
TZNAME:CEST
DTSTART:20230326T010000
END:DAYLIGHT
BEGIN:STANDARD
TZOFFSETFROM:+0200
TZOFFSETTO:+0100
TZNAME:CET
DTSTART:20231029T010000
END:STANDARD
BEGIN:DAYLIGHT
TZOFFSETFROM:+0100
TZOFFSETTO:+0200
TZNAME:CEST
DTSTART:20240331T010000
END:DAYLIGHT
BEGIN:STANDARD
TZOFFSETFROM:+0200
TZOFFSETTO:+0100
TZNAME:CET
DTSTART:20241027T010000
END:STANDARD
BEGIN:DAYLIGHT
TZOFFSETFROM:+0100
TZOFFSETTO:+0200
TZNAME:CEST
DTSTART:20250330T010000
END:DAYLIGHT
BEGIN:STANDARD
TZOFFSETFROM:+0200
TZOFFSETTO:+0100
TZNAME:CET
DTSTART:20251026T010000
END:STANDARD
END:VTIMEZONE
BEGIN:VEVENT
DTSTART;TZID=Europe/Berlin:20240610T090000
DTEND;TZID=Europe/Berlin:20240610T120000
DTSTAMP:20260423T120513
CREATED:20240614T111257Z
LAST-MODIFIED:20240614T111257Z
UID:1413-1718010000-1718020800@gsglashuette.de
SUMMARY:Leichtathletik Kreismeisterschaften 2024
DESCRIPTION:Die Grundschule Glashütte richtet in diesem Jahr die Kreismeisterschaften Leichtathletik 2024 aus.
URL:https://gsglashuette.de/event/leichtathletik-kreismeisterschaften-2024/
LOCATION:Sportplatz\, Müllerstr. 32\, Norderstedt\, Schleswig-Holstein\, 22851
END:VEVENT
BEGIN:VEVENT
DTSTART;TZID=Europe/Berlin:20240610T180000
DTEND;TZID=Europe/Berlin:20240610T193000
DTSTAMP:20260423T120513
CREATED:20230829T154513Z
LAST-MODIFIED:20230829T155535Z
UID:1263-1718042400-1718047800@gsglashuette.de
SUMMARY:Schulelternbeirat
DESCRIPTION:
URL:https://gsglashuette.de/event/schulelterbeirat/
END:VEVENT
BEGIN:VEVENT
DTSTART;TZID=Europe/Berlin:20240610T193000
DTEND;TZID=Europe/Berlin:20240610T210000
DTSTAMP:20260423T120513
CREATED:20230829T154626Z
LAST-MODIFIED:20230829T154626Z
UID:1265-1718047800-1718053200@gsglashuette.de
SUMMARY:Schulkonferenz
DESCRIPTION:
URL:https://gsglashuette.de/event/schulkonferenz-3/
END:VEVENT
END:VCALENDAR