BEGIN:VCALENDAR
VERSION:2.0
PRODID:-//OGGS Glashütte - ECPv6.15.20//NONSGML v1.0//EN
CALSCALE:GREGORIAN
METHOD:PUBLISH
X-ORIGINAL-URL:https://gsglashuette.de
X-WR-CALDESC:Veranstaltungen für OGGS Glashütte
REFRESH-INTERVAL;VALUE=DURATION:PT1H
X-Robots-Tag:noindex
X-PUBLISHED-TTL:PT1H
BEGIN:VTIMEZONE
TZID:Europe/Berlin
BEGIN:DAYLIGHT
TZOFFSETFROM:+0100
TZOFFSETTO:+0200
TZNAME:CEST
DTSTART:20230326T010000
END:DAYLIGHT
BEGIN:STANDARD
TZOFFSETFROM:+0200
TZOFFSETTO:+0100
TZNAME:CET
DTSTART:20231029T010000
END:STANDARD
BEGIN:DAYLIGHT
TZOFFSETFROM:+0100
TZOFFSETTO:+0200
TZNAME:CEST
DTSTART:20240331T010000
END:DAYLIGHT
BEGIN:STANDARD
TZOFFSETFROM:+0200
TZOFFSETTO:+0100
TZNAME:CET
DTSTART:20241027T010000
END:STANDARD
BEGIN:DAYLIGHT
TZOFFSETFROM:+0100
TZOFFSETTO:+0200
TZNAME:CEST
DTSTART:20250330T010000
END:DAYLIGHT
BEGIN:STANDARD
TZOFFSETFROM:+0200
TZOFFSETTO:+0100
TZNAME:CET
DTSTART:20251026T010000
END:STANDARD
END:VTIMEZONE
BEGIN:VEVENT
DTSTART;TZID=Europe/Berlin:20241217T080000
DTEND;TZID=Europe/Berlin:20241217T120000
DTSTAMP:20260423T133715
CREATED:20240920T112941Z
LAST-MODIFIED:20240920T112941Z
UID:1593-1734422400-1734436800@gsglashuette.de
SUMMARY:Weihnachtsmärchen
DESCRIPTION:Weihnachtsmärchen \, die 1. und 2. Klasssen gehen in den Festsaal am Falkenberg
URL:https://gsglashuette.de/event/weihnachtsmaerchen/
LOCATION:Festsaaal am Falkenberg\, Langenharmer Weg 90\, Norderstedt\, Schleswig-Holstein\, 22844\, Deutschland
END:VEVENT
BEGIN:VEVENT
DTSTART;TZID=Europe/Berlin:20241217T080000
DTEND;TZID=Europe/Berlin:20241218T130000
DTSTAMP:20260423T133715
CREATED:20240614T121220Z
LAST-MODIFIED:20240614T121220Z
UID:1440-1734422400-1734526800@gsglashuette.de
SUMMARY:Feuerwehr 3a
DESCRIPTION:Die Feuerwehr 3a kommt in die Klasse und am nächsten Tag geht die Klasse zur Feuerwehr!
URL:https://gsglashuette.de/event/feuerwehr-3a/
END:VEVENT
END:VCALENDAR